BEGIN:VCALENDAR
VERSION:2.0
PRODID:-//Perforum - ECPv6.0.4//NONSGML v1.0//EN
CALSCALE:GREGORIAN
METHOD:PUBLISH
X-WR-CALNAME:Perforum
X-ORIGINAL-URL:https://www.perforum.info
X-WR-CALDESC:Events for Perforum
REFRESH-INTERVAL;VALUE=DURATION:PT1H
X-Robots-Tag:noindex
X-PUBLISHED-TTL:PT1H
BEGIN:VTIMEZONE
TZID:Europe/Paris
BEGIN:DAYLIGHT
TZOFFSETFROM:+0100
TZOFFSETTO:+0200
TZNAME:CEST
DTSTART:20260329T010000
END:DAYLIGHT
BEGIN:STANDARD
TZOFFSETFROM:+0200
TZOFFSETTO:+0100
TZNAME:CET
DTSTART:20261025T010000
END:STANDARD
BEGIN:DAYLIGHT
TZOFFSETFROM:+0100
TZOFFSETTO:+0200
TZNAME:CEST
DTSTART:20270328T010000
END:DAYLIGHT
BEGIN:STANDARD
TZOFFSETFROM:+0200
TZOFFSETTO:+0100
TZNAME:CET
DTSTART:20271031T010000
END:STANDARD
END:VTIMEZONE
BEGIN:VEVENT
DTSTART;TZID=Europe/Paris:20260310T170000
DTEND;TZID=Europe/Paris:20260428T211500
DTSTAMP:20260426T055912
CREATED:20260121T073041Z
LAST-MODIFIED:20260226T063547Z
UID:40857-1773162000-1777410900@www.perforum.info
SUMMARY:Online tečaj permakulturnog dizajniranja (PDC)\, proljeće 2026.
DESCRIPTION:Online 72-satni tečaj permakulture (PDC) uz dodatnih 8 sati podrške. Tečaj se održava interaktivno na platformi Zoom\, a uspješni polaznici dobijaju međunarodno priznati certifikat. Voditeljica je Gordana Dragičević.
URL:https://www.perforum.info/event/online-tecaj-permakulturnog-dizajniranja-pdc-proljece-2026/
LOCATION:Zoom
CATEGORIES:Permakulurni dizajn,Tečaj
ATTACH;FMTTYPE=image/jpeg:https://www.perforum.info/wp-content/uploads/2026/01/PDC-ONLINE-Najava-Perforum-min.jpg
END:VEVENT
BEGIN:VEVENT
DTSTART;TZID=Europe/Paris:20260318T180000
DTEND;TZID=Europe/Paris:20270331T000000
DTSTAMP:20260426T055912
CREATED:20260306T182451Z
LAST-MODIFIED:20260306T182834Z
UID:40967-1773856800-1806451200@www.perforum.info
SUMMARY:Godina za bilje - članstvo
DESCRIPTION:Članski program za učenje o korisnom i jestivom samoniklom bilju uz online podršku
URL:https://www.perforum.info/event/godina-za-bilje/
CATEGORIES:Radionica
ATTACH;FMTTYPE=image/jpeg:https://www.perforum.info/wp-content/uploads/2026/03/16-min.jpg
END:VEVENT
BEGIN:VEVENT
DTSTART;TZID=Europe/Paris:20261001T080000
DTEND;TZID=Europe/Paris:20261101T170000
DTSTAMP:20260426T055912
CREATED:20260419T193814Z
LAST-MODIFIED:20260419T193816Z
UID:41032-1790841600-1793552400@www.perforum.info
SUMMARY:TEČAJ PERMAKULTURNOG DIZAJNIRANJA (PDC) – SPLIT
DESCRIPTION:Tečaj permakulture i ove se jeseni održava u Splitu\, listopad 2026. \n\n\n\nViše informacija na linku:https://www.perforum.info/tecaj-permakulturnog-dizajniranja-pdc-split-listopad-studeni-2026/
URL:https://www.perforum.info/event/tecaj-permakulturnog-dizajniranja-pdc-split/
ATTACH;FMTTYPE=image/jpeg:https://www.perforum.info/wp-content/uploads/2026/04/1.jpg
END:VEVENT
END:VCALENDAR